BEGIN:VCALENDAR
VERSION:2.0
BEGIN:VEVENT
URL:https://otrcommunity.com/index.php/jomsocial/events/viewevent/8-launch-day-rise-together 
DTSTART:20250611T200000
DTEND:20250618T201500
SUMMARY:Launch Day: Rise Together
DESCRIPTION:<span>Launch Day for the Rise & Inspire Campaign Day 1.  Share the campaign link with 5 friends or family members. Post a selfie or message with the hashtag #WeAreOTR. Let your circle know why you’re supporting this cause.</span>
LOCATION:Online
END:VEVENT
END:VCALENDAR