BEGIN:VCALENDAR
VERSION:2.0
BEGIN:VEVENT
URL:https://otrcommunity.com/index.php/jomsocial/events/viewevent/5-otr-community-meeting 
DTSTART:20250418T200000
DTEND:20250418T213000
SUMMARY:OTR Community Meeting
DESCRIPTION:<span>This OTR Community Meeting is the first of its kind in the history of the OTR Community, it's successes and failures. The first 100 Individuals to register will be given 10,000 WEARE Meme tokens, must have wallet created an be in attendance to receive tokens. Topic discussed will be OTR Community Website, the WEARE Meme Token, Rise2Prosperity Incentive Program, and R2PIP Loyalty token.</span>
LOCATION:Online, available via Zoom
END:VEVENT
END:VCALENDAR