BEGIN:VCALENDAR
VERSION:2.0
BEGIN:VEVENT
URL:https://otrcommunity.com/index.php/jomsocial/events/viewevent/4-forum-the-significance-of-narratives 
DTSTART:20241115T200000
DTEND:20241115T220000
SUMMARY:Forum: The Significance of Narratives
DESCRIPTION:Forum to discuss the significance of narratives. Panelist will discuss and entertain question concerning Narratives of the Past, Present, and Future.
LOCATION:Online
END:VEVENT
END:VCALENDAR