BEGIN:VCALENDAR
VERSION:2.0
BEGIN:VEVENT
URL:https://otrcommunity.com/index.php/jomsocial/events/viewevent/16-sunday-wallet-development 
DTSTART:20250803T160000
DTEND:20250805T170000
SUMMARY:Sunday Wallet Development
DESCRIPTION:Time to assist with wallet development
LOCATION:Online OTR Community
END:VEVENT
END:VCALENDAR