BEGIN:VCALENDAR
VERSION:2.0
BEGIN:VEVENT
URL:https://otrcommunity.com/index.php/jomsocial/events/viewevent/13-legacy-day-honor-the-builders 
DTSTART:20250623T000000
DTEND:20250623T114500
SUMMARY:Legacy Day: Honor the Builders
DESCRIPTION:<span>Promote trailblazers who laid the foundation for community growth. Post about a trailblazer who’s laid the foundation for community growth. Use #RiseAndInspire and share how they’ve influenced your journey.</span>
LOCATION:Online
END:VEVENT
END:VCALENDAR